Workbook

Sheet Legal Notice
A1: This document was prepared by GTI Energy.
A2: None of GTI Energy, the members of GTI Energy, the funders of the project giving rise to
A3: this document, GTI Energy’s contractors, nor any person acting on behalf of any of them (collectively “RAISE Users”):
A4: a. Makes any warranty or representation, express or implied with respect to the accuracy, completeness, or usefulness of the information contained in this report, or that the use of any information, apparatus, method, or process disclosed in this report may not infringe privately-owned rights. Conclusions and analysis of results by GTI Energy represent GTI Energy's opinion based on inferences from measurements and empirical relationships, which inferences and assumptions are not infallible, and with respect to which competent specialists may differ. Accordingly, you are hereby advised that the information contained in this report may be outdated or include omissions, inaccuracies or other errors. All information is provided (to the fullest extent of the law) on an ‘as seen’ basis and GTI Energy hereby expressly disclaims, and makes no representations, guarantees, or warranties of any kind, express or implied, with respect to this report, including the information, content and materials of this report.
A5: b. Assumes any liability with respect to the use of, or for any and all damages resulting from the use of, any information, apparatus, method, or process disclosed in this report; any other use of, or reliance on, this report by you (and your company) is at your (and your company’s) sole risk. TO THE FULLEST EXTENT PERMITTED BY LAW, NEITHER GTI ENERGY NOR ANY OF THE OTHER RAISE PARTICIPANTS, WILL BE LIABLE FOR DAMAGES ARISING OUT OF OR IN CONNECTION WITH THE USE OF THIS REPORT OR THE INFORMATION, CONTENT AND MATERIALS INCLUDED ON THIS REPORT. THIS IS A COMPREHENSIVE LIMITATION OF LIABILITY THAT APPLIES TO ALL DAMAGES OF ANY KIND, INCLUDING (WITHOUT LIMITATION) COMPENSATORY, DIRECT, INDIRECT OR CONSEQUENTIAL DAMAGES, LOSS OF DATA, INCOME OR PROFIT, LOSS OF OR DAMAGE TO PROPERTY AND CLAIMS OF THIRD PARTIES, WHETHER OR NOT GTI ENERGY WAS ADVISED OF SUCH DAMAGES. WITHOUT LIMITING THE GENERALITY OF THE FOREGOING, THE AGGREGATE LIABILITY TO YOU (AND YOUR COMPANY), IF ANY, WHETHER UNDER CONTRACT, TORT, STATUTE, OR OTHERWISE, SHALL NOT EXCEED THE AMOUNT OF FIFTY US DOLLARS ($50.00 USD). THE FOREGOING LIMITATIONS WILL APPLY EVEN IF THE REMEDY STATED HEREIN FAILS OF ITS ESSENTIAL PURPOSE.
A6: c. GTI Energy reserves the right to make changes to this report without notice.

Sheet Research Framework
A3: Topics | B3: 1. Natural Gas Industry & Infrastructure | C3: 2. Emerging Fuels & Decarbonization Pathways | D3: 3. Reliability, Resilience, & System Planning | E3: 4. Workforce Development | G3: Policy Research Scope
A4: Subtopics | B4: 1A. Natural Gas Outlook 1B. Infrastructure Maintenance & Modernization 1C. Natural Gas Storage | C4: 2A. RNG 2B. Hydrogen 2C. CCUS 2D. Renewables | D4: 3A. Grid Reliability & Resilience 3B. Evaluation & Valuation 3C. Demand Surge Reality 3D. Infrastructure Design & Storage 3E. Gas-Electric Coordination | E4: 4A. Transition & Retention 4B. Emerging Skills Gap 4C. Capacity Constraints | G4: The database is intended to show state-level activity, not legislation alone. Valid items may include: 1. State statutes and laws 2. Legislative bills and resolutions 3. Legislative acts and session laws 4. State code provisions 5. Administrative rules and regulations 6. Executive orders 7. Regulatory orders and decisions 8. PUC or PSC dockets, cases, projects, and proceedings 9. State regulatory frameworks 10. State-created or state-administered programs 11. State grants, loans, rebates, incentives, tax credits, and funding mechanisms 12. State appropriations and awards 13. State energy plans 14. State strategies and roadmaps 15. State studies, reports, and assessments 16. State planning processes and requirements 17. State permitting and siting frameworks 18. State task forces, councils, commissions, authorities, and workgroups 19. State workforce initiatives, training programs, scholarships, and apprenticeship programs
A6: Topic/Subtopic Descriptions
A8: Topic 1 | B8: Natural Gas Industry & Infrastructure
A9: The policy research for this topic helps understand the role, maintenance, and modernization of existing natural gas infrastructure. This topic examines how policy frameworks are shaping the role, condition, and evolution of natural gas infrastructure within the broader energy system. The analysis focuses on both the current operational landscape and the signals that indicate how natural gas systems are expected to evolve over time. Subtopics provide insight into how states are balancing the need to maintain existing infrastructure with evolving energy system requirements.
A10: Subtopic 1A: | B10: Natural Gas Outlook | C10: The future role of natural gas, as reflected in state-level legislation, incentives, and regulatory actions that either support or constrain production, delivery, and end use. This may include emissions reduction targets and climate action plans if natural gas use is deterred, or items resulting in the cost of new natural gas hookups to be paid by the customer.
A11: Subtopic 1B: | B11: Infrastructure Maintenance & Modernization | C11: Natural Gas infrastructure maintenance and modernization, including policies related to pipeline replacement, system upgrades, and the management of aging assets. This includes leak detection and repair programs and requirements if they are more stringent/perscriptive than federal requirements.
A12: Subtopic 1C: | B12: Natural Gas Storage | C12: The development, management, maintanence, and use of natural gas storage capacity and facilitites | G12: Policy Status | H12: Description
G13: Proposed | H13: Introduced or formally proposed but not yet approved, adopted, or enacted.
A14: Topic 2 | B14: Emerging Fuels & Decarbonization Pathways
A15: This topic focuses on policies supporting the integration of emerging fuels and lower-carbon energy pathways, particularly where these pathways leverage existing natural gas infrastructure systems. Subtopics capture how policy is enabling the integration of emerging fuels as part of a broader transition toward a more flexible and lower-carbon energy system. | G15: Under Review | H15: Currently undergoing formal regulatory, administrative, legislative, or planning review.
A16: Subtopic 2A: | B16: RNG | C16: Renewable natural gas, including policies that support production, pipeline injection, and end-use adoption | G16: Approved | H16: Formally accepted or authorized but not classified as an ongoing active instrument.
A17: Subtopic 2B: | B17: Hydrogen | C17: Hydrogen systems, including regulatory frameworks, incentives, and pilot efforts related to production, transport, and blending into existing infrastructure | G17: Active | H17: Currently operative, enforceable, administered, or serving as the governing policy or planning framework.
A18: Subtopic 2C: | B18: CCUS | C18: Carbon capture, utilization, and storage (CCUS), including policies supporting CO₂ transport and storage infrastructure | G18: Published | H18: Completed and released as an informational study, report, assessment, or other non-governing reference product.
A19: Subtopic 2D: | B19: Renewables | C19: The broader role of renewable energy development and its interaction with gas systems and industrial energy use | G19: Superseded | H19: Replaced by a newer policy, plan, rule, or version that now governs the subject.
G20: Repealed | H20: Formally revoked or removed from legal effect.
A21: Topic 3 | B21: Reliability, Resilience, & System Planning
A22: This topic evaluates how policy frameworks address system reliability, infrastructure resilience, and long-term planning under evolving system conditions, including increasing demand, extreme weather events, and changing resource mixes. Subtopics provide insight into how states are preparing energy systems to operate reliably under increasingly complex and uncertain conditions. | G22: Expired | H22: Ended automatically after reaching a defined statutory, regulatory, or programmatic expiration.
A23: Subtopic 3A: | B23: Grid Reliability & Resilience | C23: Reliability and resilience measures, such as infrastructure hardening, weatherization, and system performance standards | G23: Closed | H23: Formally concluded, completed, or terminated without remaining operational activity.
A24: Subtopic 3B: | B24: Evaluation & Valuation | C24: Evaluation and valuation frameworks, including how reliability, resilience, and energy security are incorporated into regulatory decision-making | G24: Withdrawn | H24: Formally removed from consideration before final approval or disposition.
A25: Subtopic 3C: | B25: Demand Surge Reality | C25: Planning for extreme conditions and demand growth, including peak demand preparedness and system stress scenarios | G25: Failed | H25: Did not pass, was vetoed, or otherwise concluded without becoming operative.
A26: Subtopic 3D: | B26: Infrastructure Design & Storage | C26: Infrastructure constraints and storage solutions, including design day capacity limitations and the role of storage in mitigating system risks | G26: Policy Type | H26: Description
A27: Subtopic 3E: | B27: Gas-Electric Coordination | C27: Gas-electric coordination, including regulatory and planning alignment between interconnected energy systems | G27: Mandates, Requirements & Standards | H27: Binding or prescriptive actions that impose requirements, limits, prohibitions, conditions, or performance standards.
G28: Regulatory Frameworks & Governance | H28: Formal structures that establish authority, institutions, permitting, oversight, coordination, or decision-making processes.
A29: Topic 4 | B29: Workforce Development
A30: This topic examines the policies and programs supporting the workforce needed to build, operate, and maintain evolving energy systems as new technologies and fuel pathways are deployed. This topic includes workforce training and upskilling, particularly for natural gas, hydrogen, RNG, and CCUS-related roles. It also includes alignment between workforce development and industry needs, such as efforts to address skills gaps and support workforce transitions. Workforce considerations are a critical enabling factor for infrastructure development and the successful implementation of emerging energy pathways. | G30: Incentives & Funding | H30: Financial mechanisms such as grants, loans, appropriations, tax credits, rebates, subsidies, or project awards.
A31: Subtopic 4A: | B31: Transition & Retention | C31: Examines how states are managing workforce change associated with evolving energy systems. Includes workforce transition programs, skill transferability, knowledge retention, redeployment initiatives, and strategies to retain experienced workers. | G31: Programs & Initiatives | H31: Organized and implemented activities that deliver services, coordinate participants, or carry out recurring policy objectives.
A32: Subtopic 4B: | B32: Emerging Skills Gap | C32: Examines whether the existing workforce possesses the technical capabilities needed to support emerging energy technologies. Includes technology-specific training, certification programs, workforce readiness assessments, and education initiatives related to hydrogen, RNG, CCUS, advanced nuclear, storage, and grid modernization. | G32: Planning, Studies & Strategies | H32: Plans, studies, assessments, roadmaps, investigations, and analytical processes that evaluate conditions or guide future action.
A33: Subtopic 4C: | B33: Capacity Contraints | C33: Examines whether sufficient workers are available to support planned infrastructure development, modernization, and deployment activities. Includes labor shortages, recruitment challenges, workforce pipeline limitations, workforce forecasting studies, apprenticeship expansion efforts, and workforce supply-demand assessments

Sheet Methodology
A3: General Summary
A4: The Regional Policy Activity Matrix uses weighted state policy records to assess both policy emphasis and regional differentiation across 15 Subtopics and four broader Topics. Each policy receives an instrument-based weight and is fully attributed to every assigned Subtopic; at the Topic level, the full weight is counted once for each applicable Topic. The Share matrices show how attributed policy activity is distributed within each region, while the Activity Group matrices compare regional shares for the same Subtopic or Topic using a 10% adjacent-gap clustering rule. Together, these matrices highlight where regions are concentrating policy attention and reveal areas where policy activity differs meaningfully across regions.
A8: What Each Matrix Shows
A9: Matrix Type | C9: Primary Purpose | F9: At-a-Glance Interpretation
A10: Regional Share Matrix (%) | C10: Policy emphasis within each region | F10: Where is each region concentrating its weighted policy attention?
A11: Regional Activity Group Matrix | C11: Regional differentiation for the same Subtopic or Topic | F11: Where do meaningful differences in weighted policy activity exist among regions?
A13: Calculation Workflow
A14: National Policy → Dataset Policy Weighting → Full Attribution → Activity Aggregation → Regional Shares → Regional Ranking → 10% Gap Clustering → Matrix Outputs
A16: Analytical Scope and Attribution Rules
A17: Component | C17: Method
A18: Geography | C18: Five regions: East Coast, Midwest, Gulf Coast, Rocky Mountain, and West Coast.
A19: Policy weighting | C19: Each policy receives a weight based on policy instrument type.
A20: Subtopic attribution | C20: Full policy weight is credited to every assigned Subtopic; the weight is not divided among assignments.
A21: Topic attribution | C21: Full policy weight is credited once to each applicable Topic. Multiple Subtopics within the same Topic do not duplicate the Topic contribution.
A22: Manual adjustments | C22: No analyst ratings, external calibration values, or manual matrix overrides are used.
A24: Policy Instrument Weights
A25: Policy Instrument Type | E25: Default Weight | F25: Current Weight | G25: Rationale
A26: Mandates, Requirements & Standards | E26: 1.5 | F26: =References!B11 -> 1.5 | G26: Creates direct obligation or driver for action
A27: Regulatory Frameworks & Governance | E27: 1.25 | F27: =References!B12 -> 1.25 | G27: Established institutional authority, process, regulatory capacity
A28: Incentives & Funding | E28: 1 | F28: =References!B13 -> 1 | G28: Commits resources and creates a mechanism for action
A29: Programs & Initiatives | E29: 1.25 | F29: =References!B14 -> 1.25 | G29: Moves from planning into active implementation
A30: Planning, Studies & Strategies | E30: 1 | F30: =References!B15 -> 1 | G30: Primarily information, planning, or direction-setting
A32: Core Metrics and Formulas
A33: Metric | C33: Formula | F33: Meaning
A34: Policy Weight | C34: Weight (Type Category) | F34: Instrument-based contribution assigned to a policy record.
A35: Attributed Subtopic Activity | C35: Σ Policy Weight × Subtopic Assignment | F35: Weighted activity associated with a Region × Subtopic.
A36: Total Attributed Regional Subtopic Activity | C36: Σ 15 Subtopic Activities | F36: Subtopic-level regional denominator. Includes every full Subtopic attribution.
A37: Regional Subtopic Share | C37: Attributed Subtopic Activity ÷ Total Attributed Regional Subtopic Activity | F37: Share of regional attributed Subtopic activity.
A38: Attributed Topic Activity | C38: Σ Policy Weight × Topic Assignment | F38: Weighted activity credited once to each applicable Region × Topic.
A39: Total Attributed Regional Topic Activity | C39: Σ Attributed Activity across 4 Topics | F39: Topic-level regional denominator.
A40: Regional Topic Share | C40: Attributed Topic Activity ÷ Total Attributed Regional Topic Activity | F40: Share of regional attributed Topic activity. The four displayed Topic shares total 100%.
A41: Adjacent Gap | C41: (Higher Share − Lower Share) ÷ Higher Share | F41: Relative separation between neighboring ranked regions.
A43: 10% Adjacent-Gap Classification
A44: For each Subtopic or Topic, rank the five regional shares from highest to lowest. Cluster 1 begins with the highest share. Compare adjacent shares using unrounded values.
A45: Adjacent Gap | D45: Treatment | F45: Result
A46: Greater than 10% | D46: Begin a new cluster | F46: Regions are meaningfully separated under the rule.
A47: Equal to or less than 10% | D47: Retain the same cluster | F47: Regions remain in the same comparative group.
A49: Activity Group Labels
A50: Clusters Produced | C50: Labels from Highest-Share to Lowest-Share Cluster
A51: 1 | C51: Comparable
...

Sheet National Policy Dataset
A2: Region | B2: State | C2: Item Name | D2: Identifier | E2: Topic | F2: Subtopic | G2: Type Category | H2: Year | I2: Status | J2: Description | K2: Source | L2: Policy Weight | M2: Unique Qualifying Policy Weight (Audit Only) | N2: Natural Gas Outlook | O2: Infrastructure Maintenance & Modernization | P2: Natural Gas Storage | Q2: RNG | R2: Hydrogen | S2: CCUS | T2: Renewables | U2: Grid Reliability & Resilience | V2: Evaluation & Valuation | W2: Demand Surge Reality | X2: Infrastructure Design & Storage | Y2: Gas-Electric Coordination | Z2: Transition & Retention | AA2: Emerging Skills Gap | AB2: Capacity Constraints | AC2: Natural Gas Industry & Infrastructure | AD2: Emerging Fuels & Decarbonization Pathways | AE2: Reliability, Resilience, & System Planning | AF2: Workforce Development
A3: East Coast | B3: CT | C3: PURA Docket No. 21-08-24, Investigation into the Southern Connecticut Gas Company’s Proposed Expansion of Distribution Service | D3: Docket No. 21-08-24 | E3: Natural Gas Industry & Infrastructure | F3: Natural Gas Outlook | G3: Planning, Studies & Strategies | H3: 2021 | I3: Closed | J3: Connecticut PURA opened Docket No. 21-08-24 to investigate Southern Connecticut Gas Company's proposed expansion of natural-gas distribution service and the associated regulatory issues. | K3: https://www.dpuc.state.ct.us/dockhist.nsf/8e6fc37a54110e3e852576190052b64d/f5f0f6d8d2f8575e8525872f004f3d1d?OpenDocument | L3: =IF($A3="",0,IFERROR(INDEX(References!$B$11:$B$15,MATCH($G3,References!$A$11:$A$15,0)),0)) -> 1 | M3: =IF($A3="",0,IF(SUM($O3:$AB3,$N3)>0,$L3,0)) -> 1 | N3: =IF($A3="",0,IF(ISNUMBER(SEARCH(References!$C$18,$F3)),$L3,0)) -> 1 | O3: =IF($A3="",0,IF(ISNUMBER(SEARCH(O$2,$F3)),$L3,0)) -> 0 | P3: =IF($A3="",0,IF(ISNUMBER(SEARCH(P$2,$F3)),$L3,0)) -> 0 | Q3: =IF($A3="",0,IF(ISNUMBER(SEARCH(Q$2,$F3)),$L3,0)) -> 0 | R3: =IF($A3="",0,IF(ISNUMBER(SEARCH(R$2,$F3)),$L3,0)) -> 0 | S3: =IF($A3="",0,IF(ISNUMBER(SEARCH(S$2,$F3)),$L3,0)) -> 0 | T3: =IF($A3="",0,IF(ISNUMBER(SEARCH(T$2,$F3)),$L3,0)) -> 0 | U3: =IF($A3="",0,IF(ISNUMBER(SEARCH(U$2,$F3)),$L3,0)) -> 0 | V3: =IF($A3="",0,IF(ISNUMBER(SEARCH(V$2,$F3)),$L3,0)) -> 0 | ... AB3: =IF($A3="",0,IF(ISNUMBER(SEARCH(AB$2,$F3)),$L3,0)) -> 0 | AC3: =IF($A3="",0,IF(SUM($N3:$P3)>0,$L3,0)) -> 1 | AD3: =IF($A3="",0,IF(SUM($Q3:$T3)>0,$L3,0)) -> 0 | AE3: =IF($A3="",0,IF(SUM($U3:$Y3)>0,$L3,0)) -> 0 | AF3: =IF($A3="",0,IF(SUM($Z3:$AB3)>0,$L3,0)) -> 0
A4: East Coast | B4: CT | C4: Public Act 23-156 | D4: PA 23-156 / HB 6851 | E4: Natural Gas Industry & Infrastructure; Emerging Fuels & Decarbonization Pathways | F4: Natural Gas Outlook; Hydrogen | G4: Mandates, Requirements & Standards | H4: 2023 | I4: Active | J4: Public Act 23-156 includes state study and planning responsibilities concerning clean hydrogen production, infrastructure, end uses, federal funding opportunities, and development of a hydrogen economy. | K4: https://www.cga.ct.gov/2023/act/Pa/pdf/2023PA-00156-R00HB-06851-PA.PDF | L4: =IF($A4="",0,IFERROR(INDEX(References!$B$11:$B$15,MATCH($G4,References!$A$11:$A$15,0)),0)) -> 1.5 | M4: =IF($A4="",0,IF(SUM($O4:$AB4,$N4)>0,$L4,0)) -> 1.5 | N4: =IF($A4="",0,IF(ISNUMBER(SEARCH(References!$C$18,$F4)),$L4,0)) -> 1.5 | O4: =IF($A4="",0,IF(ISNUMBER(SEARCH(O$2,$F4)),$L4,0)) -> 0 | P4: =IF($A4="",0,IF(ISNUMBER(SEARCH(P$2,$F4)),$L4,0)) -> 0 | Q4: =IF($A4="",0,IF(ISNUMBER(SEARCH(Q$2,$F4)),$L4,0)) -> 0 | R4: =IF($A4="",0,IF(ISNUMBER(SEARCH(R$2,$F4)),$L4,0)) -> 1.5 | S4: =IF($A4="",0,IF(ISNUMBER(SEARCH(S$2,$F4)),$L4,0)) -> 0 | T4: =IF($A4="",0,IF(ISNUMBER(SEARCH(T$2,$F4)),$L4,0)) -> 0 | U4: =IF($A4="",0,IF(ISNUMBER(SEARCH(U$2,$F4)),$L4,0)) -> 0 | V4: =IF($A4="",0,IF(ISNUMBER(SEARCH(V$2,$F4)),$L4,0)) -> 0 | ... AB4: =IF($A4="",0,IF(ISNUMBER(SEARCH(AB$2,$F4)),$L4,0)) -> 0 | AC4: =IF($A4="",0,IF(SUM($N4:$P4)>0,$L4,0)) -> 1.5 | AD4: =IF($A4="",0,IF(SUM($Q4:$T4)>0,$L4,0)) -> 1.5 | AE4: =IF($A4="",0,IF(SUM($U4:$Y4)>0,$L4,0)) -> 0 | AF4: =IF($A4="",0,IF(SUM($Z4:$AB4)>0,$L4,0)) -> 0
A5: East Coast | B5: CT | C5: Gas Pipeline Safety Unit Inspection Program | D5: - | E5: Natural Gas Industry & Infrastructure | F5: Infrastructure Maintenance & Modernization | G5: Programs & Initiatives | H5: 1971 | I5: Active | J5: Connecticut PURA’s Gas Pipeline Safety Unit conducts risk-informed field inspections and audits of gas-company plans, procedures, records, operation and maintenance activities, and pipeline-integrity and replacement criteria to verify compliance with applicable safety requirements. | K5: https://portal.ct.gov/PURA/Gas-Pipeline-Safety/GPSU-Inspection-Program | L5: =IF($A5="",0,IFERROR(INDEX(References!$B$11:$B$15,MATCH($G5,References!$A$11:$A$15,0)),0)) -> 1.25 | M5: =IF($A5="",0,IF(SUM($O5:$AB5,$N5)>0,$L5,0)) -> 1.25 | N5: =IF($A5="",0,IF(ISNUMBER(SEARCH(References!$C$18,$F5)),$L5,0)) -> 0 | O5: =IF($A5="",0,IF(ISNUMBER(SEARCH(O$2,$F5)),$L5,0)) -> 1.25 | P5: =IF($A5="",0,IF(ISNUMBER(SEARCH(P$2,$F5)),$L5,0)) -> 0 | Q5: =IF($A5="",0,IF(ISNUMBER(SEARCH(Q$2,$F5)),$L5,0)) -> 0 | R5: =IF($A5="",0,IF(ISNUMBER(SEARCH(R$2,$F5)),$L5,0)) -> 0 | S5: =IF($A5="",0,IF(ISNUMBER(SEARCH(S$2,$F5)),$L5,0)) -> 0 | T5: =IF($A5="",0,IF(ISNUMBER(SEARCH(T$2,$F5)),$L5,0)) -> 0 | U5: =IF($A5="",0,IF(ISNUMBER(SEARCH(U$2,$F5)),$L5,0)) -> 0 | V5: =IF($A5="",0,IF(ISNUMBER(SEARCH(V$2,$F5)),$L5,0)) -> 0 | ... AB5: =IF($A5="",0,IF(ISNUMBER(SEARCH(AB$2,$F5)),$L5,0)) -> 0 | AC5: =IF($A5="",0,IF(SUM($N5:$P5)>0,$L5,0)) -> 1.25 | AD5: =IF($A5="",0,IF(SUM($Q5:$T5)>0,$L5,0)) -> 0 | AE5: =IF($A5="",0,IF(SUM($U5:$Y5)>0,$L5,0)) -> 0 | AF5: =IF($A5="",0,IF(SUM($Z5:$AB5)>0,$L5,0)) -> 0
A6: East Coast | B6: CT | C6: An Act Concerning a Low-Carbon Fuel Blend of Heating Oil | D6: PA 21-181 / HB 6412 | E6: Emerging Fuels & Decarbonization Pathways | F6: Renewables | G6: Mandates, Requirements & Standards | H6: 2021 | I6: Active | J6: Requires heating oil sold in Connecticut to contain minimum percentages of biodiesel under a statutory phase-in schedule. The requirement operates through fuel-content standards and specified regional implementation conditions. | K6: https://www.cga.ct.gov/2021/act/pa/pdf/2021PA-00181-R00HB-06412-PA.pdf | L6: =IF($A6="",0,IFERROR(INDEX(References!$B$11:$B$15,MATCH($G6,References!$A$11:$A$15,0)),0)) -> 1.5 | M6: =IF($A6="",0,IF(SUM($O6:$AB6,$N6)>0,$L6,0)) -> 1.5 | N6: =IF($A6="",0,IF(ISNUMBER(SEARCH(References!$C$18,$F6)),$L6,0)) -> 0 | O6: =IF($A6="",0,IF(ISNUMBER(SEARCH(O$2,$F6)),$L6,0)) -> 0 | P6: =IF($A6="",0,IF(ISNUMBER(SEARCH(P$2,$F6)),$L6,0)) -> 0 | Q6: =IF($A6="",0,IF(ISNUMBER(SEARCH(Q$2,$F6)),$L6,0)) -> 0 | R6: =IF($A6="",0,IF(ISNUMBER(SEARCH(R$2,$F6)),$L6,0)) -> 0 | S6: =IF($A6="",0,IF(ISNUMBER(SEARCH(S$2,$F6)),$L6,0)) -> 0 | T6: =IF($A6="",0,IF(ISNUMBER(SEARCH(T$2,$F6)),$L6,0)) -> 1.5 | U6: =IF($A6="",0,IF(ISNUMBER(SEARCH(U$2,$F6)),$L6,0)) -> 0 | V6: =IF($A6="",0,IF(ISNUMBER(SEARCH(V$2,$F6)),$L6,0)) -> 0 | ... AB6: =IF($A6="",0,IF(ISNUMBER(SEARCH(AB$2,$F6)),$L6,0)) -> 0 | AC6: =IF($A6="",0,IF(SUM($N6:$P6)>0,$L6,0)) -> 0 | AD6: =IF($A6="",0,IF(SUM($Q6:$T6)>0,$L6,0)) -> 1.5 | AE6: =IF($A6="",0,IF(SUM($U6:$Y6)>0,$L6,0)) -> 0 | AF6: =IF($A6="",0,IF(SUM($Z6:$AB6)>0,$L6,0)) -> 0
A7: East Coast | B7: CT | C7: An Act Concerning Climate Change Mitigation | D7: PA 22-5 | E7: Natural Gas Industry & Infrastructure; Emerging Fuels & Decarbonization Pathways; Reliability, Resilience, & System Planning | F7: Natural Gas Outlook; Renewables; Evaluation & Valuation | G7: Planning, Studies & Strategies | H7: 2022 | I7: Active | J7: Establishes a state objective for electricity supplied to Connecticut customers to be generated from zero-carbon resources by January 1, 2040 and directs specified agency planning and regulatory consideration of that objective. | K7: https://www.cga.ct.gov/2022/ACT/PA/PDF/2022PA-00005-R00SB-00010SS1-PA.PDF | L7: =IF($A7="",0,IFERROR(INDEX(References!$B$11:$B$15,MATCH($G7,References!$A$11:$A$15,0)),0)) -> 1 | M7: =IF($A7="",0,IF(SUM($O7:$AB7,$N7)>0,$L7,0)) -> 1 | N7: =IF($A7="",0,IF(ISNUMBER(SEARCH(References!$C$18,$F7)),$L7,0)) -> 1 | O7: =IF($A7="",0,IF(ISNUMBER(SEARCH(O$2,$F7)),$L7,0)) -> 0 | P7: =IF($A7="",0,IF(ISNUMBER(SEARCH(P$2,$F7)),$L7,0)) -> 0 | Q7: =IF($A7="",0,IF(ISNUMBER(SEARCH(Q$2,$F7)),$L7,0)) -> 0 | R7: =IF($A7="",0,IF(ISNUMBER(SEARCH(R$2,$F7)),$L7,0)) -> 0 | S7: =IF($A7="",0,IF(ISNUMBER(SEARCH(S$2,$F7)),$L7,0)) -> 0 | T7: =IF($A7="",0,IF(ISNUMBER(SEARCH(T$2,$F7)),$L7,0)) -> 1 | U7: =IF($A7="",0,IF(ISNUMBER(SEARCH(U$2,$F7)),$L7,0)) -> 0 | V7: =IF($A7="",0,IF(ISNUMBER(SEARCH(V$2,$F7)),$L7,0)) -> 1 | ... AB7: =IF($A7="",0,IF(ISNUMBER(SEARCH(AB$2,$F7)),$L7,0)) -> 0 | AC7: =IF($A7="",0,IF(SUM($N7:$P7)>0,$L7,0)) -> 1 | AD7: =IF($A7="",0,IF(SUM($Q7:$T7)>0,$L7,0)) -> 1 | AE7: =IF($A7="",0,IF(SUM($U7:$Y7)>0,$L7,0)) -> 1 | AF7: =IF($A7="",0,IF(SUM($Z7:$AB7)>0,$L7,0)) -> 0
A8: East Coast | B8: CT | C8: An Act Concerning Funding for Microgrids, Resilience and State Agency Building Decarbonization Projects | D8: PA 23-157 / HB 6853 | E8: Reliability, Resilience, & System Planning | F8: Grid Reliability & Resilience | G8: Incentives & Funding | H8: 2023 | I8: Active | J8: Authorizes state support for municipal microgrids and related energy-resilience projects through financing and program-administration mechanisms established in the act. Eligible public entities and projects may receive assistance subject to the act’s program requirements. | K8: https://www.cga.ct.gov/2023/act/Pa/pdf/2023PA-00157-R00HB-06853-PA.PDF | L8: =IF($A8="",0,IFERROR(INDEX(References!$B$11:$B$15,MATCH($G8,References!$A$11:$A$15,0)),0)) -> 1 | M8: =IF($A8="",0,IF(SUM($O8:$AB8,$N8)>0,$L8,0)) -> 1 | N8: =IF($A8="",0,IF(ISNUMBER(SEARCH(References!$C$18,$F8)),$L8,0)) -> 0 | O8: =IF($A8="",0,IF(ISNUMBER(SEARCH(O$2,$F8)),$L8,0)) -> 0 | P8: =IF($A8="",0,IF(ISNUMBER(SEARCH(P$2,$F8)),$L8,0)) -> 0 | Q8: =IF($A8="",0,IF(ISNUMBER(SEARCH(Q$2,$F8)),$L8,0)) -> 0 | R8: =IF($A8="",0,IF(ISNUMBER(SEARCH(R$2,$F8)),$L8,0)) -> 0 | S8: =IF($A8="",0,IF(ISNUMBER(SEARCH(S$2,$F8)),$L8,0)) -> 0 | T8: =IF($A8="",0,IF(ISNUMBER(SEARCH(T$2,$F8)),$L8,0)) -> 0 | U8: =IF($A8="",0,IF(ISNUMBER(SEARCH(U$2,$F8)),$L8,0)) -> 1 | V8: =IF($A8="",0,IF(ISNUMBER(SEARCH(V$2,$F8)),$L8,0)) -> 0 | ... AB8: =IF($A8="",0,IF(ISNUMBER(SEARCH(AB$2,$F8)),$L8,0)) -> 0 | AC8: =IF($A8="",0,IF(SUM($N8:$P8)>0,$L8,0)) -> 0 | AD8: =IF($A8="",0,IF(SUM($Q8:$T8)>0,$L8,0)) -> 0 | AE8: =IF($A8="",0,IF(SUM($U8:$Y8)>0,$L8,0)) -> 1 | AF8: =IF($A8="",0,IF(SUM($Z8:$AB8)>0,$L8,0)) -> 0
A9: East Coast | B9: CT | C9: 2022 Comprehensive Energy Strategy stakeholder proceeding | D9: - | E9: Natural Gas Industry & Infrastructure; Reliability, Resilience, & System Planning | F9: Natural Gas Outlook; Evaluation & Valuation | G9: Planning, Studies & Strategies | H9: 2022 | I9: Closed | J9: Connecticut DEEP's 2022 Comprehensive Energy Strategy process used technical sessions, comments, and stakeholder input to evaluate energy needs, affordability, reliability, environmental impacts, and climate requirements. | K9: https://portal.ct.gov/deep/energy/comprehensive-energy-plan/comprehensive-energy-strategy | L9: =IF($A9="",0,IFERROR(INDEX(References!$B$11:$B$15,MATCH($G9,References!$A$11:$A$15,0)),0)) -> 1 | M9: =IF($A9="",0,IF(SUM($O9:$AB9,$N9)>0,$L9,0)) -> 1 | N9: =IF($A9="",0,IF(ISNUMBER(SEARCH(References!$C$18,$F9)),$L9,0)) -> 1 | O9: =IF($A9="",0,IF(ISNUMBER(SEARCH(O$2,$F9)),$L9,0)) -> 0 | P9: =IF($A9="",0,IF(ISNUMBER(SEARCH(P$2,$F9)),$L9,0)) -> 0 | Q9: =IF($A9="",0,IF(ISNUMBER(SEARCH(Q$2,$F9)),$L9,0)) -> 0 | R9: =IF($A9="",0,IF(ISNUMBER(SEARCH(R$2,$F9)),$L9,0)) -> 0 | S9: =IF($A9="",0,IF(ISNUMBER(SEARCH(S$2,$F9)),$L9,0)) -> 0 | T9: =IF($A9="",0,IF(ISNUMBER(SEARCH(T$2,$F9)),$L9,0)) -> 0 | U9: =IF($A9="",0,IF(ISNUMBER(SEARCH(U$2,$F9)),$L9,0)) -> 0 | V9: =IF($A9="",0,IF(ISNUMBER(SEARCH(V$2,$F9)),$L9,0)) -> 1 | ... AB9: =IF($A9="",0,IF(ISNUMBER(SEARCH(AB$2,$F9)),$L9,0)) -> 0 | AC9: =IF($A9="",0,IF(SUM($N9:$P9)>0,$L9,0)) -> 1 | AD9: =IF($A9="",0,IF(SUM($Q9:$T9)>0,$L9,0)) -> 0 | AE9: =IF($A9="",0,IF(SUM($U9:$Y9)>0,$L9,0)) -> 1 | AF9: =IF($A9="",0,IF(SUM($Z9:$AB9)>0,$L9,0)) -> 0
A10: East Coast | B10: CT | C10: 2022 Comprehensive Energy Strategy Technical Session 7 — Methane/Natural Gas Distribution Planning and Policies | D10: 2022 CES Technical Session 7 | E10: Natural Gas Industry & Infrastructure | F10: Natural Gas Outlook | G10: Planning, Studies & Strategies | H10: 2022 | I10: Closed | J10: Technical Session 7 of Connecticut’s Comprehensive Energy Strategy process examined methane and natural-gas distribution planning and policies. | K10: https://portal.ct.gov/-/media/deep/energy/ces/2022ces/notice-of-technical-meeting-7-_ces_final.pdf | L10: =IF($A10="",0,IFERROR(INDEX(References!$B$11:$B$15,MATCH($G10,References!$A$11:$A$15,0)),0)) -> 1 | M10: =IF($A10="",0,IF(SUM($O10:$AB10,$N10)>0,$L10,0)) -> 1 | N10: =IF($A10="",0,IF(ISNUMBER(SEARCH(References!$C$18,$F10)),$L10,0)) -> 1 | O10: =IF($A10="",0,IF(ISNUMBER(SEARCH(O$2,$F10)),$L10,0)) -> 0 | P10: =IF($A10="",0,IF(ISNUMBER(SEARCH(P$2,$F10)),$L10,0)) -> 0 | Q10: =IF($A10="",0,IF(ISNUMBER(SEARCH(Q$2,$F10)),$L10,0)) -> 0 | R10: =IF($A10="",0,IF(ISNUMBER(SEARCH(R$2,$F10)),$L10,0)) -> 0 | S10: =IF($A10="",0,IF(ISNUMBER(SEARCH(S$2,$F10)),$L10,0)) -> 0 | T10: =IF($A10="",0,IF(ISNUMBER(SEARCH(T$2,$F10)),$L10,0)) -> 0 | U10: =IF($A10="",0,IF(ISNUMBER(SEARCH(U$2,$F10)),$L10,0)) -> 0 | V10: =IF($A10="",0,IF(ISNUMBER(SEARCH(V$2,$F10)),$L10,0)) -> 0 | ... AB10: =IF($A10="",0,IF(ISNUMBER(SEARCH(AB$2,$F10)),$L10,0)) -> 0 | AC10: =IF($A10="",0,IF(SUM($N10:$P10)>0,$L10,0)) -> 1 | AD10: =IF($A10="",0,IF(SUM($Q10:$T10)>0,$L10,0)) -> 0 | AE10: =IF($A10="",0,IF(SUM($U10:$Y10)>0,$L10,0)) -> 0 | AF10: =IF($A10="",0,IF(SUM($Z10:$AB10)>0,$L10,0)) -> 0
A11: East Coast | B11: CT | C11: Green Jobs Corps workforce-training plan | D11: PA 23-61 / HB 6354; Conn. Gen. Stat. § 31-3rr | E11: Workforce Development | F11: Emerging Skills Gap | G11: Mandates, Requirements & Standards | H11: 2023 | I11: Active | J11: The Green Jobs Corps statutory planning requirement directs development of a statewide green-jobs workforce-training plan addressing recruitment, training, and pathways into clean-economy occupations. | K11: https://www.cga.ct.gov/2023/ACT/PA/PDF/2023PA-00061-R00HB-06354-PA.PDF | L11: =IF($A11="",0,IFERROR(INDEX(References!$B$11:$B$15,MATCH($G11,References!$A$11:$A$15,0)),0)) -> 1.5 | M11: =IF($A11="",0,IF(SUM($O11:$AB11,$N11)>0,$L11,0)) -> 1.5 | N11: =IF($A11="",0,IF(ISNUMBER(SEARCH(References!$C$18,$F11)),$L11,0)) -> 0 | O11: =IF($A11="",0,IF(ISNUMBER(SEARCH(O$2,$F11)),$L11,0)) -> 0 | P11: =IF($A11="",0,IF(ISNUMBER(SEARCH(P$2,$F11)),$L11,0)) -> 0 | Q11: =IF($A11="",0,IF(ISNUMBER(SEARCH(Q$2,$F11)),$L11,0)) -> 0 | R11: =IF($A11="",0,IF(ISNUMBER(SEARCH(R$2,$F11)),$L11,0)) -> 0 | S11: =IF($A11="",0,IF(ISNUMBER(SEARCH(S$2,$F11)),$L11,0)) -> 0 | T11: =IF($A11="",0,IF(ISNUMBER(SEARCH(T$2,$F11)),$L11,0)) -> 0 | U11: =IF($A11="",0,IF(ISNUMBER(SEARCH(U$2,$F11)),$L11,0)) -> 0 | V11: =IF($A11="",0,IF(ISNUMBER(SEARCH(V$2,$F11)),$L11,0)) -> 0 | ... AB11: =IF($A11="",0,IF(ISNUMBER(SEARCH(AB$2,$F11)),$L11,0)) -> 0 | AC11: =IF($A11="",0,IF(SUM($N11:$P11)>0,$L11,0)) -> 0 | AD11: =IF($A11="",0,IF(SUM($Q11:$T11)>0,$L11,0)) -> 0 | AE11: =IF($A11="",0,IF(SUM($U11:$Y11)>0,$L11,0)) -> 0 | AF11: =IF($A11="",0,IF(SUM($Z11:$AB11)>0,$L11,0)) -> 1.5
A12: East Coast | B12: CT | C12: Green Jobs Corps Program | D12: Public Act 23-61 / Conn. Gen. Stat. § 31-3rr | E12: Workforce Development | F12: Emerging Skills Gap; Capacity Constraints | G12: Programs & Initiatives | H12: 2023 | I12: Active | J12: The Green Jobs Corps Program establishes Connecticut's operating framework for green-jobs workforce training and implementation of the statewide training plan. | K12: https://www.cga.ct.gov/2023/ACT/PA/PDF/2023PA-00061-R00HB-06354-PA.PDF | L12: =IF($A12="",0,IFERROR(INDEX(References!$B$11:$B$15,MATCH($G12,References!$A$11:$A$15,0)),0)) -> 1.25 | M12: =IF($A12="",0,IF(SUM($O12:$AB12,$N12)>0,$L12,0)) -> 1.25 | N12: =IF($A12="",0,IF(ISNUMBER(SEARCH(References!$C$18,$F12)),$L12,0)) -> 0 | O12: =IF($A12="",0,IF(ISNUMBER(SEARCH(O$2,$F12)),$L12,0)) -> 0 | P12: =IF($A12="",0,IF(ISNUMBER(SEARCH(P$2,$F12)),$L12,0)) -> 0 | Q12: =IF($A12="",0,IF(ISNUMBER(SEARCH(Q$2,$F12)),$L12,0)) -> 0 | R12: =IF($A12="",0,IF(ISNUMBER(SEARCH(R$2,$F12)),$L12,0)) -> 0 | S12: =IF($A12="",0,IF(ISNUMBER(SEARCH(S$2,$F12)),$L12,0)) -> 0 | T12: =IF($A12="",0,IF(ISNUMBER(SEARCH(T$2,$F12)),$L12,0)) -> 0 | U12: =IF($A12="",0,IF(ISNUMBER(SEARCH(U$2,$F12)),$L12,0)) -> 0 | V12: =IF($A12="",0,IF(ISNUMBER(SEARCH(V$2,$F12)),$L12,0)) -> 0 | ... AB12: =IF($A12="",0,IF(ISNUMBER(SEARCH(AB$2,$F12)),$L12,0)) -> 1.25 | AC12: =IF($A12="",0,IF(SUM($N12:$P12)>0,$L12,0)) -> 0 | AD12: =IF($A12="",0,IF(SUM($Q12:$T12)>0,$L12,0)) -> 0 | AE12: =IF($A12="",0,IF(SUM($U12:$Y12)>0,$L12,0)) -> 0 | AF12: =IF($A12="",0,IF(SUM($Z12:$AB12)>0,$L12,0)) -> 1.25
A13: East Coast | B13: CT | C13: Nuclear Energy Advisory Council | D13: PA 23-102 | E13: Emerging Fuels & Decarbonization Pathways; Reliability, Resilience, & System Planning | F13: Evaluation & Valuation | G13: Regulatory Frameworks & Governance | H13: 2023 | I13: Active | J13: Establishes the Nuclear Energy Advisory Council to monitor and study nuclear-energy matters affecting Connecticut and advise or report to designated state officials and legislative committees. | K13: https://www.cga.ct.gov/2023/ACT/PA/PDF/2023PA-00102-R00HB-05004-PA.PDF | L13: =IF($A13="",0,IFERROR(INDEX(References!$B$11:$B$15,MATCH($G13,References!$A$11:$A$15,0)),0)) -> 1.25 | M13: =IF($A13="",0,IF(SUM($O13:$AB13,$N13)>0,$L13,0)) -> 1.25 | N13: =IF($A13="",0,IF(ISNUMBER(SEARCH(References!$C$18,$F13)),$L13,0)) -> 0 | O13: =IF($A13="",0,IF(ISNUMBER(SEARCH(O$2,$F13)),$L13,0)) -> 0 | P13: =IF($A13="",0,IF(ISNUMBER(SEARCH(P$2,$F13)),$L13,0)) -> 0 | Q13: =IF($A13="",0,IF(ISNUMBER(SEARCH(Q$2,$F13)),$L13,0)) -> 0 | R13: =IF($A13="",0,IF(ISNUMBER(SEARCH(R$2,$F13)),$L13,0)) -> 0 | S13: =IF($A13="",0,IF(ISNUMBER(SEARCH(S$2,$F13)),$L13,0)) -> 0 | T13: =IF($A13="",0,IF(ISNUMBER(SEARCH(T$2,$F13)),$L13,0)) -> 0 | U13: =IF($A13="",0,IF(ISNUMBER(SEARCH(U$2,$F13)),$L13,0)) -> 0 | V13: =IF($A13="",0,IF(ISNUMBER(SEARCH(V$2,$F13)),$L13,0)) -> 1.25 | ... AB13: =IF($A13="",0,IF(ISNUMBER(SEARCH(AB$2,$F13)),$L13,0)) -> 0 | AC13: =IF($A13="",0,IF(SUM($N13:$P13)>0,$L13,0)) -> 0 | AD13: =IF($A13="",0,IF(SUM($Q13:$T13)>0,$L13,0)) -> 0 | AE13: =IF($A13="",0,IF(SUM($U13:$Y13)>0,$L13,0)) -> 1.25 | AF13: =IF($A13="",0,IF(SUM($Z13:$AB13)>0,$L13,0)) -> 0
A14: East Coast | B14: CT | C14: Public Act 23-102 gas-company revenue-decoupling provision | D14: PA 23-102 | E14: Natural Gas Industry & Infrastructure; Reliability, Resilience, & System Planning | F14: Natural Gas Outlook; Evaluation & Valuation | G14: Mandates, Requirements & Standards | H14: 2023 | I14: Active | J14: Requires PURA, under conditions specified in Public Act 23-102, to implement a revenue-decoupling or comparable revenue-adjustment mechanism for regulated gas companies. | K14: https://www.cga.ct.gov/2023/ACT/PA/PDF/2023PA-00102-R00HB-05004-PA.PDF | L14: =IF($A14="",0,IFERROR(INDEX(References!$B$11:$B$15,MATCH($G14,References!$A$11:$A$15,0)),0)) -> 1.5 | M14: =IF($A14="",0,IF(SUM($O14:$AB14,$N14)>0,$L14,0)) -> 1.5 | N14: =IF($A14="",0,IF(ISNUMBER(SEARCH(References!$C$18,$F14)),$L14,0)) -> 1.5 | O14: =IF($A14="",0,IF(ISNUMBER(SEARCH(O$2,$F14)),$L14,0)) -> 0 | P14: =IF($A14="",0,IF(ISNUMBER(SEARCH(P$2,$F14)),$L14,0)) -> 0 | Q14: =IF($A14="",0,IF(ISNUMBER(SEARCH(Q$2,$F14)),$L14,0)) -> 0 | R14: =IF($A14="",0,IF(ISNUMBER(SEARCH(R$2,$F14)),$L14,0)) -> 0 | S14: =IF($A14="",0,IF(ISNUMBER(SEARCH(S$2,$F14)),$L14,0)) -> 0 | T14: =IF($A14="",0,IF(ISNUMBER(SEARCH(T$2,$F14)),$L14,0)) -> 0 | U14: =IF($A14="",0,IF(ISNUMBER(SEARCH(U$2,$F14)),$L14,0)) -> 0 | V14: =IF($A14="",0,IF(ISNUMBER(SEARCH(V$2,$F14)),$L14,0)) -> 1.5 | ... AB14: =IF($A14="",0,IF(ISNUMBER(SEARCH(AB$2,$F14)),$L14,0)) -> 0 | AC14: =IF($A14="",0,IF(SUM($N14:$P14)>0,$L14,0)) -> 1.5 | AD14: =IF($A14="",0,IF(SUM($Q14:$T14)>0,$L14,0)) -> 0 | AE14: =IF($A14="",0,IF(SUM($U14:$Y14)>0,$L14,0)) -> 1.5 | AF14: =IF($A14="",0,IF(SUM($Z14:$AB14)>0,$L14,0)) -> 0
... A213: Gulf Coast | B213: TX | C213: Recovery of Costs for Gas Utility Plant Placed in Service | D213: HB 4384 / Texas Utilities Code §104.302 | E213: Natural Gas Industry & Infrastructure | F213: Natural Gas Outlook; Infrastructure Maintenance & Modernization | G213: Regulatory Frameworks & Governance | H213: 2025 | I213: Active | J213: Allows gas utilities to defer specified post-in-service carrying costs, depreciation, and ad valorem taxes associated with unrecovered facilities placed in service. Deferred amounts are included in the utility’s authorized cost-recovery mechanism and reviewed in a general rate proceeding. | K213: https://capitol.texas.gov/tlodocs/89R/billtext/html/HB04384F.HTM | L213: =IF($A213="",0,IFERROR(INDEX(References!$B$11:$B$15,MATCH($G213,References!$A$11:$A$15,0)),0)) -> 1.25 | M213: =IF($A213="",0,IF(SUM($O213:$AB213,$N213)>0,$L213,0)) -> 1.25 | N213: =IF($A213="",0,IF(ISNUMBER(SEARCH(References!$C$18,$F213)),$L213,0)) -> 1.25 | O213: =IF($A213="",0,IF(ISNUMBER(SEARCH(O$2,$F213)),$L213,0)) -> 1.25 | P213: =IF($A213="",0,IF(ISNUMBER(SEARCH(P$2,$F213)),$L213,0)) -> 0 | Q213: =IF($A213="",0,IF(ISNUMBER(SEARCH(Q$2,$F213)),$L213,0)) -> 0 | R213: =IF($A213="",0,IF(ISNUMBER(SEARCH(R$2,$F213)),$L213,0)) -> 0 | S213: =IF($A213="",0,IF(ISNUMBER(SEARCH(S$2,$F213)),$L213,0)) -> 0 | T213: =IF($A213="",0,IF(ISNUMBER(SEARCH(T$2,$F213)),$L213,0)) -> 0 | U213: =IF($A213="",0,IF(ISNUMBER(SEARCH(U$2,$F213)),$L213,0)) -> 0 | V213: =IF($A213="",0,IF(ISNUMBER(SEARCH(V$2,$F213)),$L213,0)) -> 0 | ... AB213: =IF($A213="",0,IF(ISNUMBER(SEARCH(AB$2,$F213)),$L213,0)) -> 0 | AC213: =IF($A213="",0,IF(SUM($N213:$P213)>0,$L213,0)) -> 1.25 | AD213: =IF($A213="",0,IF(SUM($Q213:$T213)>0,$L213,0)) -> 0 | AE213: =IF($A213="",0,IF(SUM($U213:$Y213)>0,$L213,0)) -> 0 | AF213: =IF($A213="",0,IF(SUM($Z213:$AB213)>0,$L213,0)) -> 0
A214: Midwest | B214: IL | C214: Illinois Commerce Commission Future of Gas Proceeding and Workshops | D214: Docket 24-0158 | E214: Natural Gas Industry & Infrastructure; Reliability, Resilience, & System Planning | F214: Natural Gas Outlook; Evaluation & Valuation | G214: Planning, Studies & Strategies | H214: 2024 | I214: Closed | J214: Uses commission workshops and investigation to examine the future role of natural gas utility service and related regulatory issues in Illinois. The recorded proceeding or action is concluded. | K214: https://iccqa.illinois.gov/programs/Future-of-Gas-Workshop-Schedule | L214: =IF($A214="",0,IFERROR(INDEX(References!$B$11:$B$15,MATCH($G214,References!$A$11:$A$15,0)),0)) -> 1 | M214: =IF($A214="",0,IF(SUM($O214:$AB214,$N214)>0,$L214,0)) -> 1 | N214: =IF($A214="",0,IF(ISNUMBER(SEARCH(References!$C$18,$F214)),$L214,0)) -> 1 | O214: =IF($A214="",0,IF(ISNUMBER(SEARCH(O$2,$F214)),$L214,0)) -> 0 | P214: =IF($A214="",0,IF(ISNUMBER(SEARCH(P$2,$F214)),$L214,0)) -> 0 | Q214: =IF($A214="",0,IF(ISNUMBER(SEARCH(Q$2,$F214)),$L214,0)) -> 0 | R214: =IF($A214="",0,IF(ISNUMBER(SEARCH(R$2,$F214)),$L214,0)) -> 0 | S214: =IF($A214="",0,IF(ISNUMBER(SEARCH(S$2,$F214)),$L214,0)) -> 0 | T214: =IF($A214="",0,IF(ISNUMBER(SEARCH(T$2,$F214)),$L214,0)) -> 0 | U214: =IF($A214="",0,IF(ISNUMBER(SEARCH(U$2,$F214)),$L214,0)) -> 0 | V214: =IF($A214="",0,IF(ISNUMBER(SEARCH(V$2,$F214)),$L214,0)) -> 1 | ... AB214: =IF($A214="",0,IF(ISNUMBER(SEARCH(AB$2,$F214)),$L214,0)) -> 0 | AC214: =IF($A214="",0,IF(SUM($N214:$P214)>0,$L214,0)) -> 1 | AD214: =IF($A214="",0,IF(SUM($Q214:$T214)>0,$L214,0)) -> 0 | AE214: =IF($A214="",0,IF(SUM($U214:$Y214)>0,$L214,0)) -> 1 | AF214: =IF($A214="",0,IF(SUM($Z214:$AB214)>0,$L214,0)) -> 0
A215: Midwest | B215: IL | C215: Senate Bill 3935 – Clean and Healthy Buildings Act | D215: Senate Bill 3935 | E215: Natural Gas Industry & Infrastructure | F215: Natural Gas Outlook | G215: Mandates, Requirements & Standards | H215: 2024 | I215: Failed | J215: Would establish requirements affecting energy use in covered Illinois buildings, including measures intended to shift building energy systems away from higher-emitting fuel use. The measure did not become law. | K215: https://www.ilga.gov/legislation/billstatus.asp?DocNum=3935 | L215: =IF($A215="",0,IFERROR(INDEX(References!$B$11:$B$15,MATCH($G215,References!$A$11:$A$15,0)),0)) -> 1.5 | M215: =IF($A215="",0,IF(SUM($O215:$AB215,$N215)>0,$L215,0)) -> 1.5 | N215: =IF($A215="",0,IF(ISNUMBER(SEARCH(References!$C$18,$F215)),$L215,0)) -> 1.5 | O215: =IF($A215="",0,IF(ISNUMBER(SEARCH(O$2,$F215)),$L215,0)) -> 0 | P215: =IF($A215="",0,IF(ISNUMBER(SEARCH(P$2,$F215)),$L215,0)) -> 0 | Q215: =IF($A215="",0,IF(ISNUMBER(SEARCH(Q$2,$F215)),$L215,0)) -> 0 | R215: =IF($A215="",0,IF(ISNUMBER(SEARCH(R$2,$F215)),$L215,0)) -> 0 | S215: =IF($A215="",0,IF(ISNUMBER(SEARCH(S$2,$F215)),$L215,0)) -> 0 | T215: =IF($A215="",0,IF(ISNUMBER(SEARCH(T$2,$F215)),$L215,0)) -> 0 | U215: =IF($A215="",0,IF(ISNUMBER(SEARCH(U$2,$F215)),$L215,0)) -> 0 | V215: =IF($A215="",0,IF(ISNUMBER(SEARCH(V$2,$F215)),$L215,0)) -> 0 | ... AB215: =IF($A215="",0,IF(ISNUMBER(SEARCH(AB$2,$F215)),$L215,0)) -> 0 | AC215: =IF($A215="",0,IF(SUM($N215:$P215)>0,$L215,0)) -> 1.5 | AD215: =IF($A215="",0,IF(SUM($Q215:$T215)>0,$L215,0)) -> 0 | AE215: =IF($A215="",0,IF(SUM($U215:$Y215)>0,$L215,0)) -> 0 | AF215: =IF($A215="",0,IF(SUM($Z215:$AB215)>0,$L215,0)) -> 0
A216: Midwest | B216: IL | C216: Qualified Infrastructure Plant (QIP) Surcharge Law – Public Act 98-0057 / 220 ILCS 5/9-220.3 | D216: Public Act 98-0057 / 220 ILCS 5/9-220.3 | E216: Natural Gas Industry & Infrastructure | F216: Natural Gas Outlook; Infrastructure Maintenance & Modernization | G216: Regulatory Frameworks & Governance | H216: 2013 | I216: Expired | J216: Authorizes natural gas utilities to recover qualifying infrastructure investment through a rider or surcharge reviewed by the Illinois Commerce Commission. The mechanism applies to eligible system replacement and modernization costs. | K216: https://www.ilga.gov/legislation/ilcs/fulltext.asp?DocName=022000050K9-220.3 | L216: =IF($A216="",0,IFERROR(INDEX(References!$B$11:$B$15,MATCH($G216,References!$A$11:$A$15,0)),0)) -> 1.25 | M216: =IF($A216="",0,IF(SUM($O216:$AB216,$N216)>0,$L216,0)) -> 1.25 | N216: =IF($A216="",0,IF(ISNUMBER(SEARCH(References!$C$18,$F216)),$L216,0)) -> 1.25 | O216: =IF($A216="",0,IF(ISNUMBER(SEARCH(O$2,$F216)),$L216,0)) -> 1.25 | P216: =IF($A216="",0,IF(ISNUMBER(SEARCH(P$2,$F216)),$L216,0)) -> 0 | Q216: =IF($A216="",0,IF(ISNUMBER(SEARCH(Q$2,$F216)),$L216,0)) -> 0 | R216: =IF($A216="",0,IF(ISNUMBER(SEARCH(R$2,$F216)),$L216,0)) -> 0 | S216: =IF($A216="",0,IF(ISNUMBER(SEARCH(S$2,$F216)),$L216,0)) -> 0 | T216: =IF($A216="",0,IF(ISNUMBER(SEARCH(T$2,$F216)),$L216,0)) -> 0 | U216: =IF($A216="",0,IF(ISNUMBER(SEARCH(U$2,$F216)),$L216,0)) -> 0 | V216: =IF($A216="",0,IF(ISNUMBER(SEARCH(V$2,$F216)),$L216,0)) -> 0 | ... AB216: =IF($A216="",0,IF(ISNUMBER(SEARCH(AB$2,$F216)),$L216,0)) -> 0 | AC216: =IF($A216="",0,IF(SUM($N216:$P216)>0,$L216,0)) -> 1.25 | AD216: =IF($A216="",0,IF(SUM($Q216:$T216)>0,$L216,0)) -> 0 | AE216: =IF($A216="",0,IF(SUM($U216:$Y216)>0,$L216,0)) -> 0 | AF216: =IF($A216="",0,IF(SUM($Z216:$AB216)>0,$L216,0)) -> 0
A217: Midwest | B217: IL | C217: ICC Investigation of the Peoples Gas System Modernization Program | D217: Docket 24-0081 | E217: Natural Gas Industry & Infrastructure | F217: Infrastructure Maintenance & Modernization | G217: Planning, Studies & Strategies | H217: 2024 | I217: Closed | J217: Illinois Commerce Commission investigation of the Peoples Gas Light and Coke Company System Modernization Program. The proceeding reviewed the utility’s infrastructure-replacement activities and related regulatory issues and is now closed. | K217: https://icc.illinois.gov/docket/P2024-0081 | L217: =IF($A217="",0,IFERROR(INDEX(References!$B$11:$B$15,MATCH($G217,References!$A$11:$A$15,0)),0)) -> 1 | M217: =IF($A217="",0,IF(SUM($O217:$AB217,$N217)>0,$L217,0)) -> 1 | N217: =IF($A217="",0,IF(ISNUMBER(SEARCH(References!$C$18,$F217)),$L217,0)) -> 0 | O217: =IF($A217="",0,IF(ISNUMBER(SEARCH(O$2,$F217)),$L217,0)) -> 1 | P217: =IF($A217="",0,IF(ISNUMBER(SEARCH(P$2,$F217)),$L217,0)) -> 0 | Q217: =IF($A217="",0,IF(ISNUMBER(SEARCH(Q$2,$F217)),$L217,0)) -> 0 | R217: =IF($A217="",0,IF(ISNUMBER(SEARCH(R$2,$F217)),$L217,0)) -> 0 | S217: =IF($A217="",0,IF(ISNUMBER(SEARCH(S$2,$F217)),$L217,0)) -> 0 | T217: =IF($A217="",0,IF(ISNUMBER(SEARCH(T$2,$F217)),$L217,0)) -> 0 | U217: =IF($A217="",0,IF(ISNUMBER(SEARCH(U$2,$F217)),$L217,0)) -> 0 | V217: =IF($A217="",0,IF(ISNUMBER(SEARCH(V$2,$F217)),$L217,0)) -> 0 | ... AB217: =IF($A217="",0,IF(ISNUMBER(SEARCH(AB$2,$F217)),$L217,0)) -> 0 | AC217: =IF($A217="",0,IF(SUM($N217:$P217)>0,$L217,0)) -> 1 | AD217: =IF($A217="",0,IF(SUM($Q217:$T217)>0,$L217,0)) -> 0 | AE217: =IF($A217="",0,IF(SUM($U217:$Y217)>0,$L217,0)) -> 0 | AF217: =IF($A217="",0,IF(SUM($Z217:$AB217)>0,$L217,0)) -> 0
A218: Midwest | B218: IL | C218: Illinois Underground Natural Gas Storage Safety Act – 415 ILCS 160 / P.A. 100-1172 | D218: P.A. 100-1172 / 415 ILCS 160 | E218: Natural Gas Industry & Infrastructure | F218: Natural Gas Storage | G218: Regulatory Frameworks & Governance | H218: 2018 | I218: Active | J218: Establishes state safety oversight for underground natural gas storage facilities, including regulatory authority over storage operations and compliance. The action establishes or assigns a state body to oversee, coordinate, evaluate, or recommend further action within the stated scope. | K218: https://www.ilga.gov/legislation/publicacts/fulltext.asp?Name=100-1172 | L218: =IF($A218="",0,IFERROR(INDEX(References!$B$11:$B$15,MATCH($G218,References!$A$11:$A$15,0)),0)) -> 1.25 | M218: =IF($A218="",0,IF(SUM($O218:$AB218,$N218)>0,$L218,0)) -> 1.25 | N218: =IF($A218="",0,IF(ISNUMBER(SEARCH(References!$C$18,$F218)),$L218,0)) -> 0 | O218: =IF($A218="",0,IF(ISNUMBER(SEARCH(O$2,$F218)),$L218,0)) -> 0 | P218: =IF($A218="",0,IF(ISNUMBER(SEARCH(P$2,$F218)),$L218,0)) -> 1.25 | Q218: =IF($A218="",0,IF(ISNUMBER(SEARCH(Q$2,$F218)),$L218,0)) -> 0 | R218: =IF($A218="",0,IF(ISNUMBER(SEARCH(R$2,$F218)),$L218,0)) -> 0 | S218: =IF($A218="",0,IF(ISNUMBER(SEARCH(S$2,$F218)),$L218,0)) -> 0 | T218: =IF($A218="",0,IF(ISNUMBER(SEARCH(T$2,$F218)),$L218,0)) -> 0 | U218: =IF($A218="",0,IF(ISNUMBER(SEARCH(U$2,$F218)),$L218,0)) -> 0 | V218: =IF($A218="",0,IF(ISNUMBER(SEARCH(V$2,$F218)),$L218,0)) -> 0 | ... AB218: =IF($A218="",0,IF(ISNUMBER(SEARCH(AB$2,$F218)),$L218,0)) -> 0 | AC218: =IF($A218="",0,IF(SUM($N218:$P218)>0,$L218,0)) -> 1.25 | AD218: =IF($A218="",0,IF(SUM($Q218:$T218)>0,$L218,0)) -> 0 | AE218: =IF($A218="",0,IF(SUM($U218:$Y218)>0,$L218,0)) -> 0 | AF218: =IF($A218="",0,IF(SUM($Z218:$AB218)>0,$L218,0)) -> 0
A219: Midwest | B219: IL | C219: P.A. 103-0120 amendments to Illinois Underground Natural Gas Storage Safety Act | D219: P.A. 103-0120 | E219: Natural Gas Industry & Infrastructure | F219: Natural Gas Storage | G219: Regulatory Frameworks & Governance | H219: 2023 | I219: Active | J219: Establishes state safety oversight for underground natural gas storage facilities, including regulatory authority over storage operations and compliance. The action establishes or assigns a state body to oversee, coordinate, evaluate, or recommend further action within the stated scope. | K219: https://www.ilga.gov/legislation/publicacts/fulltext.asp?Name=103-0120 | L219: =IF($A219="",0,IFERROR(INDEX(References!$B$11:$B$15,MATCH($G219,References!$A$11:$A$15,0)),0)) -> 1.25 | M219: =IF($A219="",0,IF(SUM($O219:$AB219,$N219)>0,$L219,0)) -> 1.25 | N219: =IF($A219="",0,IF(ISNUMBER(SEARCH(References!$C$18,$F219)),$L219,0)) -> 0 | O219: =IF($A219="",0,IF(ISNUMBER(SEARCH(O$2,$F219)),$L219,0)) -> 0 | P219: =IF($A219="",0,IF(ISNUMBER(SEARCH(P$2,$F219)),$L219,0)) -> 1.25 | Q219: =IF($A219="",0,IF(ISNUMBER(SEARCH(Q$2,$F219)),$L219,0)) -> 0 | R219: =IF($A219="",0,IF(ISNUMBER(SEARCH(R$2,$F219)),$L219,0)) -> 0 | S219: =IF($A219="",0,IF(ISNUMBER(SEARCH(S$2,$F219)),$L219,0)) -> 0 | T219: =IF($A219="",0,IF(ISNUMBER(SEARCH(T$2,$F219)),$L219,0)) -> 0 | U219: =IF($A219="",0,IF(ISNUMBER(SEARCH(U$2,$F219)),$L219,0)) -> 0 | V219: =IF($A219="",0,IF(ISNUMBER(SEARCH(V$2,$F219)),$L219,0)) -> 0 | ... AB219: =IF($A219="",0,IF(ISNUMBER(SEARCH(AB$2,$F219)),$L219,0)) -> 0 | AC219: =IF($A219="",0,IF(SUM($N219:$P219)>0,$L219,0)) -> 1.25 | AD219: =IF($A219="",0,IF(SUM($Q219:$T219)>0,$L219,0)) -> 0 | AE219: =IF($A219="",0,IF(SUM($U219:$Y219)>0,$L219,0)) -> 0 | AF219: =IF($A219="",0,IF(SUM($Z219:$AB219)>0,$L219,0)) -> 0
A220: Midwest | B220: IL | C220: Hydrogen Fuel Replacement Tax Credit Act – Public Act 103-0268 | D220: Public Act 103-0268 | E220: Emerging Fuels & Decarbonization Pathways | F220: Hydrogen | G220: Incentives & Funding | H220: 2023 | I220: Active | J220: Creates an Illinois tax credit for qualifying use of hydrogen as a replacement fuel, using the state tax system as the incentive mechanism. The incentive operates through state tax treatment for qualifying property, production, equipment, or activity. | K220: https://www.ilga.gov/legislation/publicacts/fulltext.asp?Name=103-0268 | L220: =IF($A220="",0,IFERROR(INDEX(References!$B$11:$B$15,MATCH($G220,References!$A$11:$A$15,0)),0)) -> 1 | M220: =IF($A220="",0,IF(SUM($O220:$AB220,$N220)>0,$L220,0)) -> 1 | N220: =IF($A220="",0,IF(ISNUMBER(SEARCH(References!$C$18,$F220)),$L220,0)) -> 0 | O220: =IF($A220="",0,IF(ISNUMBER(SEARCH(O$2,$F220)),$L220,0)) -> 0 | P220: =IF($A220="",0,IF(ISNUMBER(SEARCH(P$2,$F220)),$L220,0)) -> 0 | Q220: =IF($A220="",0,IF(ISNUMBER(SEARCH(Q$2,$F220)),$L220,0)) -> 0 | R220: =IF($A220="",0,IF(ISNUMBER(SEARCH(R$2,$F220)),$L220,0)) -> 1 | S220: =IF($A220="",0,IF(ISNUMBER(SEARCH(S$2,$F220)),$L220,0)) -> 0 | T220: =IF($A220="",0,IF(ISNUMBER(SEARCH(T$2,$F220)),$L220,0)) -> 0 | U220: =IF($A220="",0,IF(ISNUMBER(SEARCH(U$2,$F220)),$L220,0)) -> 0 | V220: =IF($A220="",0,IF(ISNUMBER(SEARCH(V$2,$F220)),$L220,0)) -> 0 | ... AB220: =IF($A220="",0,IF(ISNUMBER(SEARCH(AB$2,$F220)),$L220,0)) -> 0 | AC220: =IF($A220="",0,IF(SUM($N220:$P220)>0,$L220,0)) -> 0 | AD220: =IF($A220="",0,IF(SUM($Q220:$T220)>0,$L220,0)) -> 1 | AE220: =IF($A220="",0,IF(SUM($U220:$Y220)>0,$L220,0)) -> 0 | AF220: =IF($A220="",0,IF(SUM($Z220:$AB220)>0,$L220,0)) -> 0
A221: Midwest | B221: IL | C221: SAFE CCS Act – Public Act 103-0651 | D221: Public Act 103-0651 | E221: Emerging Fuels & Decarbonization Pathways | F221: CCUS | G221: Regulatory Frameworks & Governance | H221: 2024 | I221: Active | J221: Establishes an Illinois framework for carbon capture, CO₂ transport, and geologic storage activities, including state oversight of related infrastructure and project requirements. The framework defines state authority and oversight for permitting or administering covered storage activity. | K221: https://www.ilga.gov/legislation/publicacts/fulltext.asp?Name=103-0651 | L221: =IF($A221="",0,IFERROR(INDEX(References!$B$11:$B$15,MATCH($G221,References!$A$11:$A$15,0)),0)) -> 1.25 | M221: =IF($A221="",0,IF(SUM($O221:$AB221,$N221)>0,$L221,0)) -> 1.25 | N221: =IF($A221="",0,IF(ISNUMBER(SEARCH(References!$C$18,$F221)),$L221,0)) -> 0 | O221: =IF($A221="",0,IF(ISNUMBER(SEARCH(O$2,$F221)),$L221,0)) -> 0 | P221: =IF($A221="",0,IF(ISNUMBER(SEARCH(P$2,$F221)),$L221,0)) -> 0 | Q221: =IF($A221="",0,IF(ISNUMBER(SEARCH(Q$2,$F221)),$L221,0)) -> 0 | R221: =IF($A221="",0,IF(ISNUMBER(SEARCH(R$2,$F221)),$L221,0)) -> 0 | S221: =IF($A221="",0,IF(ISNUMBER(SEARCH(S$2,$F221)),$L221,0)) -> 1.25 | T221: =IF($A221="",0,IF(ISNUMBER(SEARCH(T$2,$F221)),$L221,0)) -> 0 | U221: =IF($A221="",0,IF(ISNUMBER(SEARCH(U$2,$F221)),$L221,0)) -> 0 | V221: =IF($A221="",0,IF(ISNUMBER(SEARCH(V$2,$F221)),$L221,0)) -> 0 | ... AB221: =IF($A221="",0,IF(ISNUMBER(SEARCH(AB$2,$F221)),$L221,0)) -> 0 | AC221: =IF($A221="",0,IF(SUM($N221:$P221)>0,$L221,0)) -> 0 | AD221: =IF($A221="",0,IF(SUM($Q221:$T221)>0,$L221,0)) -> 1.25 | AE221: =IF($A221="",0,IF(SUM($U221:$Y221)>0,$L221,0)) -> 0 | AF221: =IF($A221="",0,IF(SUM($Z221:$AB221)>0,$L221,0)) -> 0
A222: Midwest | B222: IL | C222: Renewable Gas & Low-Carbon Fuels Act – HB 3115 | D222: HB 3115 | E222: Emerging Fuels & Decarbonization Pathways | F222: RNG | G222: Regulatory Frameworks & Governance | H222: 2021 | I222: Failed | J222: Would establish an Illinois policy framework for renewable gas and other low-carbon fuels, including their production, distribution, or use in the state energy system. The measure did not become law. | K222: https://www.ilga.gov/legislation/102/HB/10200HB3115.htm | L222: =IF($A222="",0,IFERROR(INDEX(References!$B$11:$B$15,MATCH($G222,References!$A$11:$A$15,0)),0)) -> 1.25 | M222: =IF($A222="",0,IF(SUM($O222:$AB222,$N222)>0,$L222,0)) -> 1.25 | N222: =IF($A222="",0,IF(ISNUMBER(SEARCH(References!$C$18,$F222)),$L222,0)) -> 0 | O222: =IF($A222="",0,IF(ISNUMBER(SEARCH(O$2,$F222)),$L222,0)) -> 0 | P222: =IF($A222="",0,IF(ISNUMBER(SEARCH(P$2,$F222)),$L222,0)) -> 0 | Q222: =IF($A222="",0,IF(ISNUMBER(SEARCH(Q$2,$F222)),$L222,0)) -> 1.25 | R222: =IF($A222="",0,IF(ISNUMBER(SEARCH(R$2,$F222)),$L222,0)) -> 0 | S222: =IF($A222="",0,IF(ISNUMBER(SEARCH(S$2,$F222)),$L222,0)) -> 0 | T222: =IF($A222="",0,IF(ISNUMBER(SEARCH(T$2,$F222)),$L222,0)) -> 0 | U222: =IF($A222="",0,IF(ISNUMBER(SEARCH(U$2,$F222)),$L222,0)) -> 0 | V222: =IF($A222="",0,IF(ISNUMBER(SEARCH(V$2,$F222)),$L222,0)) -> 0 | ... AB222: =IF($A222="",0,IF(ISNUMBER(SEARCH(AB$2,$F222)),$L222,0)) -> 0 | AC222: =IF($A222="",0,IF(SUM($N222:$P222)>0,$L222,0)) -> 0 | AD222: =IF($A222="",0,IF(SUM($Q222:$T222)>0,$L222,0)) -> 1.25 | AE222: =IF($A222="",0,IF(SUM($U222:$Y222)>0,$L222,0)) -> 0 | AF222: =IF($A222="",0,IF(SUM($Z222:$AB222)>0,$L222,0)) -> 0
A223: Midwest | B223: IL | C223: Illinois Renewable Portfolio Standard, expanded via CEJA | D223: 20 ILCS 3855/1-75(c) | E223: Natural Gas Industry & Infrastructure; Emerging Fuels & Decarbonization Pathways | F223: Natural Gas Outlook; Renewables | G223: Mandates, Requirements & Standards | H223: 2007 | I223: Active | J223: Establishes Illinois renewable electricity procurement requirements through the state renewable portfolio standard, as expanded under CEJA. Compliance is governed through the binding conditions or performance requirements established by the action. | K223: https://ipa.illinois.gov/renewable-resources.html | L223: =IF($A223="",0,IFERROR(INDEX(References!$B$11:$B$15,MATCH($G223,References!$A$11:$A$15,0)),0)) -> 1.5 | M223: =IF($A223="",0,IF(SUM($O223:$AB223,$N223)>0,$L223,0)) -> 1.5 | N223: =IF($A223="",0,IF(ISNUMBER(SEARCH(References!$C$18,$F223)),$L223,0)) -> 1.5 | O223: =IF($A223="",0,IF(ISNUMBER(SEARCH(O$2,$F223)),$L223,0)) -> 0 | P223: =IF($A223="",0,IF(ISNUMBER(SEARCH(P$2,$F223)),$L223,0)) -> 0 | Q223: =IF($A223="",0,IF(ISNUMBER(SEARCH(Q$2,$F223)),$L223,0)) -> 0 | R223: =IF($A223="",0,IF(ISNUMBER(SEARCH(R$2,$F223)),$L223,0)) -> 0 | S223: =IF($A223="",0,IF(ISNUMBER(SEARCH(S$2,$F223)),$L223,0)) -> 0 | T223: =IF($A223="",0,IF(ISNUMBER(SEARCH(T$2,$F223)),$L223,0)) -> 1.5 | U223: =IF($A223="",0,IF(ISNUMBER(SEARCH(U$2,$F223)),$L223,0)) -> 0 | V223: =IF($A223="",0,IF(ISNUMBER(SEARCH(V$2,$F223)),$L223,0)) -> 0 | ... AB223: =IF($A223="",0,IF(ISNUMBER(SEARCH(AB$2,$F223)),$L223,0)) -> 0 | AC223: =IF($A223="",0,IF(SUM($N223:$P223)>0,$L223,0)) -> 1.5 | AD223: =IF($A223="",0,IF(SUM($Q223:$T223)>0,$L223,0)) -> 1.5 | AE223: =IF($A223="",0,IF(SUM($U223:$Y223)>0,$L223,0)) -> 0 | AF223: =IF($A223="",0,IF(SUM($Z223:$AB223)>0,$L223,0)) -> 0
A224: Midwest | B224: IL | C224: Illinois self-direct renewable portfolio standard compliance program | D224: 20 ILCS 3855/1-75(c)(1)(R) | E224: Natural Gas Industry & Infrastructure; Emerging Fuels & Decarbonization Pathways | F224: Natural Gas Outlook; Renewables | G224: Programs & Initiatives | H224: 2021 | I224: Active | J224: Provides a self-direct pathway for qualifying large electricity customers to meet renewable portfolio compliance obligations through their own renewable-energy arrangements. | K224: https://ipa.illinois.gov/renewable-resources.html | L224: =IF($A224="",0,IFERROR(INDEX(References!$B$11:$B$15,MATCH($G224,References!$A$11:$A$15,0)),0)) -> 1.25 | M224: =IF($A224="",0,IF(SUM($O224:$AB224,$N224)>0,$L224,0)) -> 1.25 | N224: =IF($A224="",0,IF(ISNUMBER(SEARCH(References!$C$18,$F224)),$L224,0)) -> 1.25 | O224: =IF($A224="",0,IF(ISNUMBER(SEARCH(O$2,$F224)),$L224,0)) -> 0 | P224: =IF($A224="",0,IF(ISNUMBER(SEARCH(P$2,$F224)),$L224,0)) -> 0 | Q224: =IF($A224="",0,IF(ISNUMBER(SEARCH(Q$2,$F224)),$L224,0)) -> 0 | R224: =IF($A224="",0,IF(ISNUMBER(SEARCH(R$2,$F224)),$L224,0)) -> 0 | S224: =IF($A224="",0,IF(ISNUMBER(SEARCH(S$2,$F224)),$L224,0)) -> 0 | T224: =IF($A224="",0,IF(ISNUMBER(SEARCH(T$2,$F224)),$L224,0)) -> 1.25 | U224: =IF($A224="",0,IF(ISNUMBER(SEARCH(U$2,$F224)),$L224,0)) -> 0 | V224: =IF($A224="",0,IF(ISNUMBER(SEARCH(V$2,$F224)),$L224,0)) -> 0 | ... AB224: =IF($A224="",0,IF(ISNUMBER(SEARCH(AB$2,$F224)),$L224,0)) -> 0 | AC224: =IF($A224="",0,IF(SUM($N224:$P224)>0,$L224,0)) -> 1.25 | AD224: =IF($A224="",0,IF(SUM($Q224:$T224)>0,$L224,0)) -> 1.25 | AE224: =IF($A224="",0,IF(SUM($U224:$Y224)>0,$L224,0)) -> 0 | AF224: =IF($A224="",0,IF(SUM($Z224:$AB224)>0,$L224,0)) -> 0
A225: Midwest | B225: IL | C225: Clean and Reliable Grid Affordability Act (CRGA) – Public Act 104-0458 | D225: Public Act 104-0458 | E225: Natural Gas Industry & Infrastructure; Emerging Fuels & Decarbonization Pathways; Reliability, Resilience, & System Planning | F225: Natural Gas Outlook; Renewables; Grid Reliability & Resilience; Evaluation & Valuation; Demand Surge Reality; Infrastructure Design & Storage | G225: Mandates, Requirements & Standards | H225: 2026 | I225: Active | J225: Requires municipal and cooperative electric utilities to use integrated resource planning to evaluate generation portfolios, costs, reliability, and compliance, with oversight functions assigned to the Illinois Power Agency. | K225: https://www.ilga.gov/documents/legislation/PublicActs/104/104-0458.htm | L225: =IF($A225="",0,IFERROR(INDEX(References!$B$11:$B$15,MATCH($G225,References!$A$11:$A$15,0)),0)) -> 1.5 | M225: =IF($A225="",0,IF(SUM($O225:$AB225,$N225)>0,$L225,0)) -> 1.5 | N225: =IF($A225="",0,IF(ISNUMBER(SEARCH(References!$C$18,$F225)),$L225,0)) -> 1.5 | O225: =IF($A225="",0,IF(ISNUMBER(SEARCH(O$2,$F225)),$L225,0)) -> 0 | P225: =IF($A225="",0,IF(ISNUMBER(SEARCH(P$2,$F225)),$L225,0)) -> 0 | Q225: =IF($A225="",0,IF(ISNUMBER(SEARCH(Q$2,$F225)),$L225,0)) -> 0 | R225: =IF($A225="",0,IF(ISNUMBER(SEARCH(R$2,$F225)),$L225,0)) -> 0 | S225: =IF($A225="",0,IF(ISNUMBER(SEARCH(S$2,$F225)),$L225,0)) -> 0 | T225: =IF($A225="",0,IF(ISNUMBER(SEARCH(T$2,$F225)),$L225,0)) -> 1.5 | U225: =IF($A225="",0,IF(ISNUMBER(SEARCH(U$2,$F225)),$L225,0)) -> 1.5 | V225: =IF($A225="",0,IF(ISNUMBER(SEARCH(V$2,$F225)),$L225,0)) -> 1.5 | ... AB225: =IF($A225="",0,IF(ISNUMBER(SEARCH(AB$2,$F225)),$L225,0)) -> 0 | AC225: =IF($A225="",0,IF(SUM($N225:$P225)>0,$L225,0)) -> 1.5 | AD225: =IF($A225="",0,IF(SUM($Q225:$T225)>0,$L225,0)) -> 1.5 | AE225: =IF($A225="",0,IF(SUM($U225:$Y225)>0,$L225,0)) -> 1.5 | AF225: =IF($A225="",0,IF(SUM($Z225:$AB225)>0,$L225,0)) -> 0
